BEGIN:VCALENDAR
VERSION:2.0
PRODID:-//BIK Barneveld - ECPv5.16.4.1//NONSGML v1.0//EN
CALSCALE:GREGORIAN
METHOD:PUBLISH
X-WR-CALNAME:BIK Barneveld
X-ORIGINAL-URL:https://acceptatie.bikbarneveld.nl
X-WR-CALDESC:Evenementen voor BIK Barneveld
BEGIN:VTIMEZONE
TZID:UTC
BEGIN:STANDARD
TZOFFSETFROM:+0000
TZOFFSETTO:+0000
TZNAME:UTC
DTSTART:20150101T000000
END:STANDARD
END:VTIMEZONE
BEGIN:VEVENT
DTSTART;TZID=UTC:20150526T100000
DTEND;TZID=UTC:20150526T120000
DTSTAMP:20260421T112953
CREATED:20150310T121322Z
LAST-MODIFIED:20150310T121322Z
UID:309-1432634400-1432641600@acceptatie.bikbarneveld.nl
SUMMARY:Voorzittersoverleg
DESCRIPTION:mrt 10\, 2015
URL:https://acceptatie.bikbarneveld.nl/agenda/voorzittersoverleg/
CATEGORIES:Overige bijeenkomsten
END:VEVENT
END:VCALENDAR