BEGIN:VCALENDAR
VERSION:2.0
PRODID:-//BIK Barneveld - ECPv5.16.4.1//NONSGML v1.0//EN
CALSCALE:GREGORIAN
METHOD:PUBLISH
X-WR-CALNAME:BIK Barneveld
X-ORIGINAL-URL:https://acceptatie.bikbarneveld.nl
X-WR-CALDESC:Evenementen voor BIK Barneveld
BEGIN:VTIMEZONE
TZID:UTC
BEGIN:STANDARD
TZOFFSETFROM:+0000
TZOFFSETTO:+0000
TZNAME:UTC
DTSTART:20160101T000000
END:STANDARD
END:VTIMEZONE
BEGIN:VEVENT
DTSTART;TZID=UTC:20160119T100000
DTEND;TZID=UTC:20160119T120000
DTSTAMP:20260420T121616
CREATED:20160108T105717Z
LAST-MODIFIED:20160108T105717Z
UID:913-1453197600-1453204800@acceptatie.bikbarneveld.nl
SUMMARY:SOGB vergadering
DESCRIPTION:jan 8\, 2016
URL:https://acceptatie.bikbarneveld.nl/agenda/sogb-vergadering/
END:VEVENT
END:VCALENDAR