BEGIN:VCALENDAR
VERSION:2.0
PRODID:-//BIK Barneveld - ECPv5.16.4.1//NONSGML v1.0//EN
CALSCALE:GREGORIAN
METHOD:PUBLISH
X-WR-CALNAME:BIK Barneveld
X-ORIGINAL-URL:https://acceptatie.bikbarneveld.nl
X-WR-CALDESC:Evenementen voor BIK Barneveld
BEGIN:VTIMEZONE
TZID:UTC
BEGIN:STANDARD
TZOFFSETFROM:+0000
TZOFFSETTO:+0000
TZNAME:UTC
DTSTART:20180101T000000
END:STANDARD
END:VTIMEZONE
BEGIN:VEVENT
DTSTART;TZID=UTC:20180925T190000
DTEND;TZID=UTC:20180925T203000
DTSTAMP:20260419T145033
CREATED:20171102T125215Z
LAST-MODIFIED:20171102T125215Z
UID:1707-1537902000-1537907400@acceptatie.bikbarneveld.nl
SUMMARY:Overleg BIK bestuur en Gemeenteraad
DESCRIPTION:nov 2\, 2017
URL:https://acceptatie.bikbarneveld.nl/agenda/overleg-bik-bestuur-en-gemeenteraad-2/
CATEGORIES:Bestuursvergaderingen
END:VEVENT
END:VCALENDAR