BEGIN:VCALENDAR
VERSION:2.0
PRODID:-//BIK Barneveld - ECPv5.16.4.1//NONSGML v1.0//EN
CALSCALE:GREGORIAN
METHOD:PUBLISH
X-WR-CALNAME:BIK Barneveld
X-ORIGINAL-URL:https://acceptatie.bikbarneveld.nl
X-WR-CALDESC:Evenementen voor BIK Barneveld
BEGIN:VTIMEZONE
TZID:UTC
BEGIN:STANDARD
TZOFFSETFROM:+0000
TZOFFSETTO:+0000
TZNAME:UTC
DTSTART:20160101T000000
END:STANDARD
END:VTIMEZONE
BEGIN:VEVENT
DTSTART;TZID=UTC:20161206T140000
DTEND;TZID=UTC:20161206T153000
DTSTAMP:20260419T114747
CREATED:20160108T111409Z
LAST-MODIFIED:20160531T115519Z
UID:929-1481032800-1481038200@acceptatie.bikbarneveld.nl
SUMMARY:Overleg BIK bestuur en College van B&W
DESCRIPTION:jan 8\, 2016
URL:https://acceptatie.bikbarneveld.nl/agenda/overleg-bik-bestuur-en-college-van-bw-3/
CATEGORIES:Bestuursvergaderingen
END:VEVENT
END:VCALENDAR