BEGIN:VCALENDAR
VERSION:2.0
PRODID:-//BIK Barneveld - ECPv5.16.4.1//NONSGML v1.0//EN
CALSCALE:GREGORIAN
METHOD:PUBLISH
X-WR-CALNAME:BIK Barneveld
X-ORIGINAL-URL:https://acceptatie.bikbarneveld.nl
X-WR-CALDESC:Evenementen voor BIK Barneveld
BEGIN:VTIMEZONE
TZID:UTC
BEGIN:STANDARD
TZOFFSETFROM:+0000
TZOFFSETTO:+0000
TZNAME:UTC
DTSTART:20240101T000000
END:STANDARD
END:VTIMEZONE
BEGIN:VEVENT
DTSTART;TZID=UTC:20241114T190000
DTEND;TZID=UTC:20241114T220000
DTSTAMP:20260421T112953
CREATED:20240123T110439Z
LAST-MODIFIED:20240123T110439Z
UID:3696-1731610800-1731621600@acceptatie.bikbarneveld.nl
SUMMARY:Ondernemers Event Gemeente Barneveld
DESCRIPTION:Na het overweldigende succes van vorig jaar\, gaat ook dit jaar het Ondernemers Event gevierd worden. Ben of ken jij die Ondernemer van het Jaar\, Duurzame Ondernemer van het Jaar of Jonge Ondernemer van het Jaar? Laat het ons weten (ondernemersvent.com). \njan 23\, 2024
URL:https://acceptatie.bikbarneveld.nl/agenda/ondernemers-event-gemeente-barneveld/
CATEGORIES:Overige bijeenkomsten
END:VEVENT
END:VCALENDAR