BEGIN:VCALENDAR
VERSION:2.0
PRODID:-//BIK Barneveld - ECPv5.16.4.1//NONSGML v1.0//EN
CALSCALE:GREGORIAN
METHOD:PUBLISH
X-WR-CALNAME:BIK Barneveld
X-ORIGINAL-URL:https://acceptatie.bikbarneveld.nl
X-WR-CALDESC:Evenementen voor BIK Barneveld
BEGIN:VTIMEZONE
TZID:UTC
BEGIN:STANDARD
TZOFFSETFROM:+0000
TZOFFSETTO:+0000
TZNAME:UTC
DTSTART:20250101T000000
END:STANDARD
END:VTIMEZONE
BEGIN:VEVENT
DTSTART;TZID=UTC:20250111T183000
DTEND;TZID=UTC:20250111T233000
DTSTAMP:20260420T135409
CREATED:20241002T173434Z
LAST-MODIFIED:20241002T173434Z
UID:3801-1736620200-1736638200@acceptatie.bikbarneveld.nl
SUMMARY:Nieuwjaarsreceptie
DESCRIPTION:okt 2\, 2024
URL:https://acceptatie.bikbarneveld.nl/agenda/nieuwjaarsreceptie-5/
CATEGORIES:BIK bijeenkomsten,JOS
END:VEVENT
END:VCALENDAR