BEGIN:VCALENDAR
VERSION:2.0
PRODID:-//BIK Barneveld - ECPv5.16.4.1//NONSGML v1.0//EN
CALSCALE:GREGORIAN
METHOD:PUBLISH
X-WR-CALNAME:BIK Barneveld
X-ORIGINAL-URL:https://acceptatie.bikbarneveld.nl
X-WR-CALDESC:Evenementen voor BIK Barneveld
BEGIN:VTIMEZONE
TZID:UTC
BEGIN:STANDARD
TZOFFSETFROM:+0000
TZOFFSETTO:+0000
TZNAME:UTC
DTSTART:20220101T000000
END:STANDARD
END:VTIMEZONE
BEGIN:VEVENT
DTSTART;TZID=UTC:20220519T193000
DTEND;TZID=UTC:20220519T233000
DTSTAMP:20260420T151841
CREATED:20211228T134635Z
LAST-MODIFIED:20220510T132545Z
UID:3401-1652988600-1653003000@acceptatie.bikbarneveld.nl
SUMMARY:Feestelijke bijeenkomst BIK & JOS
DESCRIPTION:dec 28\, 2021
URL:https://acceptatie.bikbarneveld.nl/agenda/feestelijke-bijeenkomst-bik-jos/
CATEGORIES:BIK bijeenkomsten,JOS
END:VEVENT
END:VCALENDAR