BEGIN:VCALENDAR
VERSION:2.0
PRODID:-//BIK Barneveld - ECPv5.16.4.1//NONSGML v1.0//EN
CALSCALE:GREGORIAN
METHOD:PUBLISH
X-WR-CALNAME:BIK Barneveld
X-ORIGINAL-URL:https://acceptatie.bikbarneveld.nl
X-WR-CALDESC:Evenementen voor BIK Barneveld
BEGIN:VTIMEZONE
TZID:UTC
BEGIN:STANDARD
TZOFFSETFROM:+0000
TZOFFSETTO:+0000
TZNAME:UTC
DTSTART:20190101T000000
END:STANDARD
END:VTIMEZONE
BEGIN:VEVENT
DTSTART;TZID=UTC:20191212T200000
DTEND;TZID=UTC:20191212T233000
DTSTAMP:20260420T154457
CREATED:20181106T155648Z
LAST-MODIFIED:20191211T142149Z
UID:2324-1576180800-1576193400@acceptatie.bikbarneveld.nl
SUMMARY:Inspiratieavond BIK en JOS
DESCRIPTION:Op donderdag 14 november organiseert de JOS een interessante inspiratiesessie met marketinggoeroe Jacco Bouw. Jacco Bouw heeft zijn sporen verdiend als oprichter van het bedrijf Webpower. Webpower is grote een e-mailspecialist met kantoren in Nederland en Europa met ook een leidende positie in de Chinese markt. \nJacco Bouw vertrok in juli bij Webpower om zich meer te focussen op China. Ook gaat hij met zijn kennis en ervaring andere Europese organisaties bijstaan in het betreden van de Chinese markt. \nHet belooft een inspirerende avond te worden! Jacco geeft ons een inkijkje in de Chinese zakelijke cultuur en de lessen die hij daar geleerd heeft. Hij heeft daar inmiddels 9 kantoren met enkele honderden werknemers. We zijn er supertrots op dat hij deze avond wil verzorgen. \nBezoekers van de inspiratiesessie worden tijdens de avond culinair verzorgd door het team van ‘t Hoefslag. \nWat: inspiratiesessie\nMet wie: Jacco Bouw\nWaar: partycentrum ‘t Hoefslag\nTijd: 19.30 uur \nnov 6\, 2018
URL:https://acceptatie.bikbarneveld.nl/agenda/bitterballenavond-jos/
CATEGORIES:JOS
END:VEVENT
END:VCALENDAR