BEGIN:VCALENDAR
VERSION:2.0
PRODID:-//BIK Barneveld - ECPv5.16.4.1//NONSGML v1.0//EN
CALSCALE:GREGORIAN
METHOD:PUBLISH
X-WR-CALNAME:BIK Barneveld
X-ORIGINAL-URL:https://acceptatie.bikbarneveld.nl
X-WR-CALDESC:Evenementen voor BIK Barneveld
BEGIN:VTIMEZONE
TZID:UTC
BEGIN:STANDARD
TZOFFSETFROM:+0000
TZOFFSETTO:+0000
TZNAME:UTC
DTSTART:20170101T000000
END:STANDARD
END:VTIMEZONE
BEGIN:VEVENT
DTSTART;TZID=UTC:20170114T180000
DTEND;TZID=UTC:20170114T180000
DTSTAMP:20260419T132547
CREATED:20161017T092743Z
LAST-MODIFIED:20170104T120315Z
UID:1271-1484416800-1484416800@acceptatie.bikbarneveld.nl
SUMMARY:BIK en JOS nieuwjaarsreceptie 2017
DESCRIPTION:Klik op onderstaande link om de uitnodiging en het programma te bekijken:\nbik_uitnodiging_web-definitief \nokt 17\, 2016
URL:https://acceptatie.bikbarneveld.nl/agenda/bik-en-jos-nieuwjaarsreceptie-2017/
END:VEVENT
END:VCALENDAR