BEGIN:VCALENDAR
VERSION:2.0
PRODID:-//BIK Barneveld - ECPv5.16.4.1//NONSGML v1.0//EN
CALSCALE:GREGORIAN
METHOD:PUBLISH
X-WR-CALNAME:BIK Barneveld
X-ORIGINAL-URL:https://acceptatie.bikbarneveld.nl
X-WR-CALDESC:Evenementen voor BIK Barneveld
BEGIN:VTIMEZONE
TZID:UTC
BEGIN:STANDARD
TZOFFSETFROM:+0000
TZOFFSETTO:+0000
TZNAME:UTC
DTSTART:20150101T000000
END:STANDARD
END:VTIMEZONE
BEGIN:VEVENT
DTSTART;TZID=UTC:20150414T140000
DTEND;TZID=UTC:20150414T160000
DTSTAMP:20260421T114103
CREATED:20150310T115545Z
LAST-MODIFIED:20150310T115545Z
UID:295-1429020000-1429027200@acceptatie.bikbarneveld.nl
SUMMARY:BIK bestuursvergadering
DESCRIPTION:mrt 10\, 2015
URL:https://acceptatie.bikbarneveld.nl/agenda/bik-bestuursvergadering/
CATEGORIES:Bestuursvergaderingen
END:VEVENT
END:VCALENDAR