BEGIN:VCALENDAR
VERSION:2.0
PRODID:-//BIK Barneveld - ECPv5.16.4.1//NONSGML v1.0//EN
CALSCALE:GREGORIAN
METHOD:PUBLISH
X-WR-CALNAME:BIK Barneveld
X-ORIGINAL-URL:https://acceptatie.bikbarneveld.nl
X-WR-CALDESC:Evenementen voor BIK Barneveld
BEGIN:VTIMEZONE
TZID:UTC
BEGIN:STANDARD
TZOFFSETFROM:+0000
TZOFFSETTO:+0000
TZNAME:UTC
DTSTART:20180101T000000
END:STANDARD
END:VTIMEZONE
BEGIN:VEVENT
DTSTART;TZID=UTC:20180904T103000
DTEND;TZID=UTC:20180904T123000
DTSTAMP:20260419T182950
CREATED:20171102T125436Z
LAST-MODIFIED:20171102T125436Z
UID:1717-1536057000-1536064200@acceptatie.bikbarneveld.nl
SUMMARY:BIK bestuursvergadering
DESCRIPTION:nov 2\, 2017
URL:https://acceptatie.bikbarneveld.nl/agenda/bik-bestuursvergadering-20/
CATEGORIES:Bestuursvergaderingen
END:VEVENT
END:VCALENDAR