BEGIN:VCALENDAR
VERSION:2.0
PRODID:-//BIK Barneveld - ECPv5.16.4.1//NONSGML v1.0//EN
CALSCALE:GREGORIAN
METHOD:PUBLISH
X-WR-CALNAME:BIK Barneveld
X-ORIGINAL-URL:https://acceptatie.bikbarneveld.nl
X-WR-CALDESC:Evenementen voor BIK Barneveld
BEGIN:VTIMEZONE
TZID:UTC
BEGIN:STANDARD
TZOFFSETFROM:+0000
TZOFFSETTO:+0000
TZNAME:UTC
DTSTART:20170101T000000
END:STANDARD
END:VTIMEZONE
BEGIN:VEVENT
DTSTART;TZID=UTC:20170117T110000
DTEND;TZID=UTC:20170117T130000
DTSTAMP:20260419T150711
CREATED:20160108T124454Z
LAST-MODIFIED:20160531T114910Z
UID:935-1484650800-1484658000@acceptatie.bikbarneveld.nl
SUMMARY:BIK bestuursvergadering
DESCRIPTION:jan 8\, 2016
URL:https://acceptatie.bikbarneveld.nl/agenda/bik-bestuursvergadering-15/
CATEGORIES:Bestuursvergaderingen
END:VEVENT
END:VCALENDAR