BEGIN:VCALENDAR
VERSION:2.0
PRODID:-//BIK Barneveld - ECPv5.16.4.1//NONSGML v1.0//EN
CALSCALE:GREGORIAN
METHOD:PUBLISH
X-WR-CALNAME:BIK Barneveld
X-ORIGINAL-URL:https://acceptatie.bikbarneveld.nl
X-WR-CALDESC:Evenementen voor BIK Barneveld
BEGIN:VTIMEZONE
TZID:UTC
BEGIN:STANDARD
TZOFFSETFROM:+0000
TZOFFSETTO:+0000
TZNAME:UTC
DTSTART:20220101T000000
END:STANDARD
END:VTIMEZONE
BEGIN:VEVENT
DTSTART;TZID=UTC:20221201T190000
DTEND;TZID=UTC:20221201T233000
DTSTAMP:20260420T134928
CREATED:20211228T134822Z
LAST-MODIFIED:20221014T110448Z
UID:3407-1669921200-1669937400@acceptatie.bikbarneveld.nl
SUMMARY:Whiskyproeverij met Jock Shaw van Scotch and Folk bij Alberto's Italian
DESCRIPTION:dec 28\, 2021
URL:https://acceptatie.bikbarneveld.nl/agenda/bijeenkomst-bik-jos/
CATEGORIES:BIK bijeenkomsten,JOS
END:VEVENT
END:VCALENDAR