BEGIN:VCALENDAR
VERSION:2.0
PRODID:-//BIK Barneveld - ECPv5.16.4.1//NONSGML v1.0//EN
CALSCALE:GREGORIAN
METHOD:PUBLISH
X-WR-CALNAME:BIK Barneveld
X-ORIGINAL-URL:https://acceptatie.bikbarneveld.nl
X-WR-CALDESC:Evenementen voor BIK Barneveld
BEGIN:VTIMEZONE
TZID:UTC
BEGIN:STANDARD
TZOFFSETFROM:+0000
TZOFFSETTO:+0000
TZNAME:UTC
DTSTART:20160101T000000
END:STANDARD
END:VTIMEZONE
BEGIN:VEVENT
DTSTART;TZID=UTC:20161101T143000
DTEND;TZID=UTC:20161101T170000
DTSTAMP:20260419T161726
CREATED:20161017T072905Z
LAST-MODIFIED:20161017T072905Z
UID:1267-1478010600-1478019600@acceptatie.bikbarneveld.nl
SUMMARY:Bijeenkomst Augmented Reality
DESCRIPTION:Aanmelden kan via: \n\n  \n\n\n\n\n\n\n\n\n\nUw bedrijfsnaam (verplicht)\n \n\n \nAantal personen (verplicht)\n \n\n \nUw naam (verplicht)\n \n\n \nIntroducé\n \n\n \nUw e-mail (verplicht)\n \n\n \nOpmerkingen\n \n\n \n\n \n\n\n\nokt 17\, 2016
URL:https://acceptatie.bikbarneveld.nl/agenda/bijeenkomst-augmented-reality/
END:VEVENT
END:VCALENDAR