BEGIN:VCALENDAR
VERSION:2.0
PRODID:-//BIK Barneveld - ECPv5.16.4.1//NONSGML v1.0//EN
CALSCALE:GREGORIAN
METHOD:PUBLISH
X-WR-CALNAME:BIK Barneveld
X-ORIGINAL-URL:https://acceptatie.bikbarneveld.nl
X-WR-CALDESC:Evenementen voor BIK Barneveld
BEGIN:VTIMEZONE
TZID:UTC
BEGIN:STANDARD
TZOFFSETFROM:+0000
TZOFFSETTO:+0000
TZNAME:UTC
DTSTART:20220101T000000
END:STANDARD
END:VTIMEZONE
BEGIN:VEVENT
DTSTART;TZID=UTC:20221013T163000
DTEND;TZID=UTC:20221013T210000
DTSTAMP:20260420T135452
CREATED:20211228T134747Z
LAST-MODIFIED:20221006T121008Z
UID:3405-1665678600-1665694800@acceptatie.bikbarneveld.nl
SUMMARY:Bedrijfsbezoek BIK & JOS
DESCRIPTION:Donderdag 13 oktober 2022\nBedrijfsbezoek BIK en de JOS op donderdag 13 oktober bij Europaparket in Barneveld.   \nProgramma: \n16.30 uur inloop met hapje en drankje \n17.00 uur update actualiteiten vanuit de BIK  \n17.15 uur presentatie en rondleiding Europaparket \n18.00 uur netwerkborrel  \n20.30 uur einde \ndec 28\, 2021
URL:https://acceptatie.bikbarneveld.nl/agenda/bedrijfsbezoek-bik-jos/
CATEGORIES:BIK bijeenkomsten,JOS
END:VEVENT
END:VCALENDAR