BEGIN:VCALENDAR
VERSION:2.0
PRODID:-//BIK Barneveld - ECPv5.16.4.1//NONSGML v1.0//EN
CALSCALE:GREGORIAN
METHOD:PUBLISH
X-WR-CALNAME:BIK Barneveld
X-ORIGINAL-URL:https://acceptatie.bikbarneveld.nl
X-WR-CALDESC:Evenementen voor BIK Barneveld
BEGIN:VTIMEZONE
TZID:UTC
BEGIN:STANDARD
TZOFFSETFROM:+0000
TZOFFSETTO:+0000
TZNAME:UTC
DTSTART:20150101T000000
END:STANDARD
END:VTIMEZONE
BEGIN:VEVENT
DTSTART;TZID=UTC:20150528T153000
DTEND;TZID=UTC:20150528T190000
DTSTAMP:20260421T153620
CREATED:20150310T120640Z
LAST-MODIFIED:20150310T120959Z
UID:306-1432827000-1432839600@acceptatie.bikbarneveld.nl
SUMMARY:Bedrijfsbezoek Bettink Service Team
DESCRIPTION:mrt 10\, 2015
URL:https://acceptatie.bikbarneveld.nl/agenda/bedrijfsbezoek-bettink-onderhoud-en-service/
CATEGORIES:BIK bijeenkomsten
END:VEVENT
END:VCALENDAR