BEGIN:VCALENDAR
VERSION:2.0
PRODID:-//BIK Barneveld - ECPv5.16.4.1//NONSGML v1.0//EN
CALSCALE:GREGORIAN
METHOD:PUBLISH
X-WR-CALNAME:BIK Barneveld
X-ORIGINAL-URL:https://acceptatie.bikbarneveld.nl
X-WR-CALDESC:Evenementen voor BIK Barneveld
BEGIN:VTIMEZONE
TZID:UTC
BEGIN:STANDARD
TZOFFSETFROM:+0000
TZOFFSETTO:+0000
TZNAME:UTC
DTSTART:20180101T000000
END:STANDARD
END:VTIMEZONE
BEGIN:VEVENT
DTSTART;TZID=UTC:20181011T173000
DTEND;TZID=UTC:20181011T220000
DTSTAMP:20260421T094651
CREATED:20171102T125950Z
LAST-MODIFIED:20180910T090024Z
UID:1735-1539279000-1539295200@acceptatie.bikbarneveld.nl
SUMMARY:Bedrijfsbezoek
DESCRIPTION:Datum:    Donderdag 11 oktober 2018\nLocatie:   P-services & SDVB\nParkeren kan bij P-services en Van Iwaarden (Röntgenstraat 2 of Nipkowstraat 2) \nProgramma\n17.30 uur welkom en ontvangst P-services\n18.00 uur presentatie P-services\n18.15 uur start rondleiding P-services\n19.00 uur ontvangst SDVB en start walking dinner\n19.30 uur spreker dhr. Evers\, thema vitaliteit \nAanmelden kan via deze link. \n  \nnov 2\, 2017
URL:https://acceptatie.bikbarneveld.nl/agenda/bedrijfsbezoek-4/
CATEGORIES:BIK bijeenkomsten,Overige bijeenkomsten
END:VEVENT
END:VCALENDAR