BEGIN:VCALENDAR
VERSION:2.0
PRODID:-//BIK Barneveld - ECPv5.16.4.1//NONSGML v1.0//EN
CALSCALE:GREGORIAN
METHOD:PUBLISH
X-WR-CALNAME:BIK Barneveld
X-ORIGINAL-URL:https://acceptatie.bikbarneveld.nl
X-WR-CALDESC:Evenementen voor BIK Barneveld
BEGIN:VTIMEZONE
TZID:UTC
BEGIN:STANDARD
TZOFFSETFROM:+0000
TZOFFSETTO:+0000
TZNAME:UTC
DTSTART:20190101T000000
END:STANDARD
END:VTIMEZONE
BEGIN:VEVENT
DTSTART;TZID=UTC:20190307T173000
DTEND;TZID=UTC:20190307T210000
DTSTAMP:20260420T013947
CREATED:20181106T155234Z
LAST-MODIFIED:20181106T155234Z
UID:2312-1551979800-1551992400@acceptatie.bikbarneveld.nl
SUMMARY:ALV JOS
DESCRIPTION:nov 6\, 2018
URL:https://acceptatie.bikbarneveld.nl/agenda/alv-jos/
CATEGORIES:JOS
END:VEVENT
END:VCALENDAR