BEGIN:VCALENDAR
VERSION:2.0
PRODID:-//BIK Barneveld - ECPv5.16.4.1//NONSGML v1.0//EN
CALSCALE:GREGORIAN
METHOD:PUBLISH
X-WR-CALNAME:BIK Barneveld
X-ORIGINAL-URL:https://acceptatie.bikbarneveld.nl
X-WR-CALDESC:Evenementen voor BIK Barneveld
BEGIN:VTIMEZONE
TZID:UTC
BEGIN:STANDARD
TZOFFSETFROM:+0000
TZOFFSETTO:+0000
TZNAME:UTC
DTSTART:20210101T000000
END:STANDARD
END:VTIMEZONE
BEGIN:VEVENT
DTSTART;TZID=UTC:20211111T163000
DTEND;TZID=UTC:20211111T210000
DTSTAMP:20260421T140420
CREATED:20210707T123517Z
LAST-MODIFIED:20211107T093316Z
UID:3250-1636648200-1636664400@acceptatie.bikbarneveld.nl
SUMMARY:Algemene ledenvergadering BIK
DESCRIPTION:Tijdens de ALV zullen we terugblikken op vorig jaar\, want ook al was het een jaar waarin alles op slot raakte\, er is toch ontzettend veel gebeurd én bereikt. Zo is er hard gewerkt aan de energiedoelstellingen\, is er een stuurgroep opgericht voor het ontwikkelen en realiseren van een mogelijke railterminal\, is er een LOI getekend met de potentiële railterminalexploitant\, wordt er gewerkt aan de revitalisering van Harselaar Oost en ga zo maar door. \nWe krijgen ook te maken met een bestuurlijke wisseling\, want het termijn van Gijs Eikelenboom zit er na een heel fijne tijd op. Daarom willen wij u graag voorstellen aan de potentiële nieuwe voorzitter\, Robert Kwintenberg\, directeur van Van de Brink Staalbouw. Tijdens de vergadering zal er – in overleg met u – een officiële vaststelling plaatsvinden. \nProgramma:\n16.30 uur inloop met hapje en drankje\n17.00 uur algemene ledenvergadering\n18.15 uur presentatie Bosch Beton\n18.45 uur pauze met hapje en drankje\n19.15 uur rondleiding Bosch Beton op de step\n20.00 uur netwerkborrel \n \n Wij vinden het belangrijk dat onze leden op een veilige manier bij elkaar kunnen komen\, daarom hanteren we testen voor toegang. Wij vragen u om een geldige QR-code van een vaccinatie-\, herstel- of testbewijs te laten zien.  \njul 7\, 2021
URL:https://acceptatie.bikbarneveld.nl/agenda/algemene-ledenvergadering-bik/
CATEGORIES:BIK bijeenkomsten
ATTACH;FMTTYPE=image/png:https://acceptatie.bikbarneveld.nl/app/uploads/logo_boschbeton-2.png
END:VEVENT
END:VCALENDAR