BEGIN:VCALENDAR
VERSION:2.0
PRODID:-//BIK Barneveld - ECPv5.16.4.1//NONSGML v1.0//EN
CALSCALE:GREGORIAN
METHOD:PUBLISH
X-WR-CALNAME:BIK Barneveld
X-ORIGINAL-URL:https://acceptatie.bikbarneveld.nl
X-WR-CALDESC:Evenementen voor BIK Barneveld
BEGIN:VTIMEZONE
TZID:UTC
BEGIN:STANDARD
TZOFFSETFROM:+0000
TZOFFSETTO:+0000
TZNAME:UTC
DTSTART:20220101T000000
END:STANDARD
END:VTIMEZONE
BEGIN:VEVENT
DTSTART;TZID=UTC:20220414T163000
DTEND;TZID=UTC:20220414T210000
DTSTAMP:20260421T193413
CREATED:20211228T134554Z
LAST-MODIFIED:20211228T134554Z
UID:3399-1649953800-1649970000@acceptatie.bikbarneveld.nl
SUMMARY:Algemene ledenvergadering
DESCRIPTION:dec 28\, 2021
URL:https://acceptatie.bikbarneveld.nl/agenda/algemene-ledenvergadering-4/
CATEGORIES:BIK bijeenkomsten
END:VEVENT
END:VCALENDAR